BEGIN:VCALENDAR
VERSION:2.0
PRODID:-//Saint-Claude.fr, la ville grandeur nature - ECPv6.15.15//NONSGML v1.0//EN
CALSCALE:GREGORIAN
METHOD:PUBLISH
X-WR-CALNAME:Saint-Claude.fr, la ville grandeur nature
X-ORIGINAL-URL:https://www.saint-claude.fr
X-WR-CALDESC:Évènements pour Saint-Claude.fr, la ville grandeur nature
REFRESH-INTERVAL;VALUE=DURATION:PT1H
X-Robots-Tag:noindex
X-PUBLISHED-TTL:PT1H
BEGIN:VTIMEZONE
TZID:Europe/Paris
BEGIN:DAYLIGHT
TZOFFSETFROM:+0100
TZOFFSETTO:+0200
TZNAME:CEST
DTSTART:20250330T010000
END:DAYLIGHT
BEGIN:STANDARD
TZOFFSETFROM:+0200
TZOFFSETTO:+0100
TZNAME:CET
DTSTART:20251026T010000
END:STANDARD
BEGIN:DAYLIGHT
TZOFFSETFROM:+0100
TZOFFSETTO:+0200
TZNAME:CEST
DTSTART:20260329T010000
END:DAYLIGHT
BEGIN:STANDARD
TZOFFSETFROM:+0200
TZOFFSETTO:+0100
TZNAME:CET
DTSTART:20261025T010000
END:STANDARD
BEGIN:DAYLIGHT
TZOFFSETFROM:+0100
TZOFFSETTO:+0200
TZNAME:CEST
DTSTART:20270328T010000
END:DAYLIGHT
BEGIN:STANDARD
TZOFFSETFROM:+0200
TZOFFSETTO:+0100
TZNAME:CET
DTSTART:20271031T010000
END:STANDARD
END:VTIMEZONE
BEGIN:VEVENT
DTSTART;VALUE=DATE:20260226
DTEND;VALUE=DATE:20260701
DTSTAMP:20260421T050920
CREATED:20260226T102222Z
LAST-MODIFIED:20260226T102222Z
UID:43379-1772064000-1782863999@www.saint-claude.fr
SUMMARY:Le Bus Santé des Femmes à Saint-Claude
DESCRIPTION:Le Bus Santé des Femmes sera présent plusieurs fois dans l’année dans deux quartiers de la ville : \n– 17 mars\n– 7 avril (uniquement aux Avignonnets)\n– 28 avril\n– 19 mai\n– 9 juin\n– 30 juin \nAvignonnets – Espace Mosaïque9h45 – 12h45 \nChabot / Le Miroir13h45 – 16h45 \n‍⚕️ Des consultations gratuites avec une sage-femme et une infirmière sont proposées :• Suivi gynécologique• Dépistage des IST• Frottis• Contraception• Ménopause• Conseils et orientation \nGratuit\, sur présentation de la carte vitale et de la mutuelle. \nRenseignements : 06 80 21 57 79busdesfemmes@mutualite-39.fr \nUne action de proximité essentielle pour faciliter l’accès aux soins et à la prévention pour toutes.
URL:https://www.saint-claude.fr/evenement/le-bus-sante-des-femmes-a-saint-claude/
ATTACH;FMTTYPE=image/png:https://www.saint-claude.fr/wp-content/uploads/2026/02/Jura-sud-avignonnets-1.png
END:VEVENT
BEGIN:VEVENT
DTSTART;TZID=Europe/Paris:20260402T093000
DTEND;TZID=Europe/Paris:20260402T173000
DTSTAMP:20260421T050920
CREATED:20260309T123113Z
LAST-MODIFIED:20260309T123113Z
UID:43431-1775122200-1775151000@www.saint-claude.fr
SUMMARY:Colon Tour à Saint-Claude : une journée pour sensibiliser au dépistage du cancer colorectal
DESCRIPTION:La Ville de Saint-Claude accueillera le Colon Tour\, une journée d’information et de prévention dédiée au dépistage du cancer colorectal\, jeudi 2 avril 2026 de 9h30 à 17h30 à la salle des fêtes. \nOrganisé par La Ligue contre le cancer – Comité du Jura\, cet événement est proposé en partenariat avec le CCAS de Saint-Claude et la CPTS du Haut-Jura. Il a pour objectif de sensibiliser le grand public à l’importance du dépistage\, un geste simple qui permet de détecter précocement la maladie et d’augmenter considérablement les chances de guérison. \nUn côlon géant pour mieux comprendre la maladie\nLe public pourra notamment visiter un côlon géant\, un outil pédagogique immersif qui permet de visualiser les différentes étapes de développement des lésions et de mieux comprendre l’importance du dépistage. \nTout au long de la journée\, plusieurs animations et stands d’information seront proposés : \n\n\nroue de la prévention et escape game \n\n\ntests de condition physique \n\n\nouverture de Mon espace Santé \n\n\ninformations sur le dépistage et conseils de prévention \n\n\ndistribution de kits de dépistage \n\n\nL’événement est gratuit et ouvert à tous. \nUne pause déjeuner conviviale\nLe midi\, une formule « soupe sur le pouce » (entrée\, soupe\, fromage\, dessert) sera proposée au tarif de 8 €\, préparée par les Jardins partagés. \n Réservation obligatoire avant le 25 mars auprès du CCAS de Saint-Claude. \n\nInformations pratiques\n Salle des fêtes – 10 rue Rosset – Saint-Claude Jeudi 2 avril 2026 9h30 – 17h30 Entrée libre et gratuite \n Réservation repas : CCAS de Saint-Claude03 84 41 42 52 \n Renseignements : Ligue contre le cancer – Comité du Jura03 84 24 26 05
URL:https://www.saint-claude.fr/evenement/colon-tour-a-saint-claude-une-journee-pour-sensibiliser-au-depistage-du-cancer-colorectal/
ATTACH;FMTTYPE=image/jpeg:https://www.saint-claude.fr/wp-content/uploads/2026/03/Affiche-COLON-TOUR-ST-CLAUDE-1_page-0001.jpg
END:VEVENT
END:VCALENDAR