BEGIN:VCALENDAR
VERSION:2.0
PRODID:-//Saint-Claude.fr, la ville grandeur nature - ECPv6.15.15//NONSGML v1.0//EN
CALSCALE:GREGORIAN
METHOD:PUBLISH
X-WR-CALNAME:Saint-Claude.fr, la ville grandeur nature
X-ORIGINAL-URL:https://www.saint-claude.fr
X-WR-CALDESC:Évènements pour Saint-Claude.fr, la ville grandeur nature
REFRESH-INTERVAL;VALUE=DURATION:PT1H
X-Robots-Tag:noindex
X-PUBLISHED-TTL:PT1H
BEGIN:VTIMEZONE
TZID:Europe/Paris
BEGIN:DAYLIGHT
TZOFFSETFROM:+0100
TZOFFSETTO:+0200
TZNAME:CEST
DTSTART:20250330T010000
END:DAYLIGHT
BEGIN:STANDARD
TZOFFSETFROM:+0200
TZOFFSETTO:+0100
TZNAME:CET
DTSTART:20251026T010000
END:STANDARD
BEGIN:DAYLIGHT
TZOFFSETFROM:+0100
TZOFFSETTO:+0200
TZNAME:CEST
DTSTART:20260329T010000
END:DAYLIGHT
BEGIN:STANDARD
TZOFFSETFROM:+0200
TZOFFSETTO:+0100
TZNAME:CET
DTSTART:20261025T010000
END:STANDARD
BEGIN:DAYLIGHT
TZOFFSETFROM:+0100
TZOFFSETTO:+0200
TZNAME:CEST
DTSTART:20270328T010000
END:DAYLIGHT
BEGIN:STANDARD
TZOFFSETFROM:+0200
TZOFFSETTO:+0100
TZNAME:CET
DTSTART:20271031T010000
END:STANDARD
END:VTIMEZONE
BEGIN:VEVENT
DTSTART;VALUE=DATE:20260226
DTEND;VALUE=DATE:20260701
DTSTAMP:20260421T024753
CREATED:20260226T102222Z
LAST-MODIFIED:20260226T102222Z
UID:43379-1772064000-1782863999@www.saint-claude.fr
SUMMARY:Le Bus Santé des Femmes à Saint-Claude
DESCRIPTION:Le Bus Santé des Femmes sera présent plusieurs fois dans l’année dans deux quartiers de la ville : \n– 17 mars\n– 7 avril (uniquement aux Avignonnets)\n– 28 avril\n– 19 mai\n– 9 juin\n– 30 juin \nAvignonnets – Espace Mosaïque9h45 – 12h45 \nChabot / Le Miroir13h45 – 16h45 \n‍⚕️ Des consultations gratuites avec une sage-femme et une infirmière sont proposées :• Suivi gynécologique• Dépistage des IST• Frottis• Contraception• Ménopause• Conseils et orientation \nGratuit\, sur présentation de la carte vitale et de la mutuelle. \nRenseignements : 06 80 21 57 79busdesfemmes@mutualite-39.fr \nUne action de proximité essentielle pour faciliter l’accès aux soins et à la prévention pour toutes.
URL:https://www.saint-claude.fr/evenement/le-bus-sante-des-femmes-a-saint-claude/
ATTACH;FMTTYPE=image/png:https://www.saint-claude.fr/wp-content/uploads/2026/02/Jura-sud-avignonnets-1.png
END:VEVENT
BEGIN:VEVENT
DTSTART;VALUE=DATE:20260404
DTEND;VALUE=DATE:20260426
DTSTAMP:20260421T024753
CREATED:20260318T125449Z
LAST-MODIFIED:20260318T125449Z
UID:43520-1775260800-1777161599@www.saint-claude.fr
SUMMARY:EXPOSITION - Christophe Signori
DESCRIPTION:Une invitation au voyage intérieur à la Galerie des Artistes ! \nLa Ville de Saint-Claude est heureuse de vous annoncer l’exposition « Domaine du rêve » du peintre autodidacte Christophe Signori\, du 4 au 25 avril 2026 ! ✨ \nÀ travers ses toiles\, Christophe Signori vous entraîne dans un univers onirique où la frontière entre réalité et imagination s’efface doucement. Ses œuvres\, à la fois réalistes et contemporaines\, laissent à chacun la liberté d’y projeter ses propres émotions et d’y trouver son propre imaginaire. ️ \nUn artiste au parcours remarquable\, dont les œuvres ont voyagé de Paris à Sydney\, en passant par Lyon\, Londres et Lausanne… et qui pose aujourd’hui ses pinceaux dans notre ville ! \n Galerie des Artistes – Le Monde des Automates Place Jacques Faizant\, Saint-Claude  Du 4 au 25 avril 2026 ️ Entrée accessible à tous \n Renseignements : 03 84 41 42 37 \n Une exposition à ne pas manquer\, que vous soyez amateur d’art ou simplement curieux de découvrir un univers pictural hors du commun !
URL:https://www.saint-claude.fr/evenement/exposition-christophe-signori/
ATTACH;FMTTYPE=image/jpeg:https://www.saint-claude.fr/wp-content/uploads/2026/03/Affiche-exposition-avril-Christophe-Signori.jpg
END:VEVENT
BEGIN:VEVENT
DTSTART;TZID=Europe/Paris:20260408T090000
DTEND;TZID=Europe/Paris:20260423T173000
DTSTAMP:20260421T024753
CREATED:20260325T125302Z
LAST-MODIFIED:20260325T125302Z
UID:43601-1775638800-1776965400@www.saint-claude.fr
SUMMARY:Exposition "Les forêts d'altitude\, des forêts de liens"
DESCRIPTION:La ville de Saint-Claude\, le centre social Espace Mosaïque\, et l’association Groupe Tetra Jura seront heureux de votre présence lors du vernissage de l’exposition \n« Les forêts d’altitude\, des forêts de liens »\nVernissage le 8 avril à 18h \nVisite libre – Tous les jours\, sauf week-end\n» 9h/12h et 14h/17h30 \nAteliers familles – Mercredi 15 avril\n» Faune à l’encre de chine – 10/12h\n» Sur la piste des petites bêtes – 14h/16h\nInscription conseillée\, places limitées \nVisite libre et café – Samedi 18 avril\n» 9h30/12h \nExposition et rendez-vous proposés à l’Espace Mosaïque\n15 rue de Franche-Comté\nRenseignement : 03 84 45 22 97 \nUn partenariat Association Groupe Tétra Jura et Espace Mosaïque\nAvec le soutien du FINA\, Festival Inter Nature \nExposition du 8 au 23 avril 2026
URL:https://www.saint-claude.fr/evenement/exposition-les-forets-daltitude-des-forets-de-liens/
ATTACH;FMTTYPE=image/jpeg:https://www.saint-claude.fr/wp-content/uploads/2026/03/Expo-EM.jpg
END:VEVENT
BEGIN:VEVENT
DTSTART;VALUE=DATE:20260415
DTEND;VALUE=DATE:20260426
DTSTAMP:20260421T024753
CREATED:20260408T061221Z
LAST-MODIFIED:20260408T110344Z
UID:43748-1776211200-1777161599@www.saint-claude.fr
SUMMARY:Désorientons-nous : trois rendez-vous littéraires et artistiques à Saint-Claude
DESCRIPTION:Au mois d’avril\, la Maison de la poésie transjurassienne\, en partenariat avec la Médiathèque Le Dôme et le Musée de l’Abbaye\, propose à Saint-Claude un cycle de rencontres intitulé « Désorientons-nous ». \nPorté par la présence de l’auteure italienne et somalienne Ubah Cristina Ali Farah\, ce programme invite le public à explorer\, à travers la littérature\, l’oralité\, l’image et la mise en voix\, des thématiques fortes telles que les langues\, les migrations\, les identités\, les mémoires\, la condition des femmes et les regards croisés entre cultures africaines et occidentales. \nPoète\, romancière\, dramaturge et interprète orale\, Ubah Cristina Ali Farah est aujourd’hui reconnue comme l’une des grandes voix contemporaines issues de la Corne de l’Afrique. Son œuvre\, écrite en italien et traduite en français\, déploie un regard sensible et puissant sur les récits de diaspora\, les héritages culturels et les fractures du monde contemporain. \nTrois dates\, trois lieux\, trois façons de découvrir son univers\n\nMercredi 15 avril 2026 à 19h\nMaison de la Poésie transjurassienne – Saint-Claude\nRencontre “Comme à la maison” avec Ubah Cristina Ali Farah\nCette première soirée prendra la forme d’une rencontre trilingue et conviviale avec l’auteure\, autour de son parcours\, de son écriture et de son univers littéraire. \nÀ travers ses textes\, Ubah Cristina Ali Farah fait émerger des voix de femmes\, des récits de guerre\, d’exil\, de mémoire et de transmission\, dans une œuvre où l’intime rejoint constamment l’histoire du monde. \n\nJeudi 23 avril 2026 à 18h\nMédiathèque Le Dôme – Saint-Claude\nRestitution d’ateliers et rencontre artistique\nLa Médiathèque Le Dôme accueillera une soirée mêlant lecture sonore\, restitution d’ateliers et rencontre artistique autour des langues\, de la migration des personnes et des plantes. \nLe public pourra également découvrir l’exposition du livre d’artiste “Les cheveux du jujubier”\, réalisé à quatre mains par Goele Dewanckel\, illustratrice\, et Ubah Cristina Ali Farah. \nCette rencontre mettra en lumière un travail sensible autour des récits\, des langues et des circulations culturelles. \n\nSamedi 25 avril 2026 à 17h\nMusée de l’Abbaye – Saint-Claude\nDéambulation littéraire et artistique\nAu cœur du Musée de l’Abbaye\, une déambulation mise en voix viendra dialoguer avec les œuvres de l’exposition RÉSONANCE et les tableaux de Marie Nivouliès. \nImaginée par Florence Daudé avec le collectif éphémère Échos d’Orient\, cette proposition artistique invitera le public à une traversée sensible entre récits de voyage\, regards sur l’émancipation des femmes\, colonisation\, décolonisation et mémoire des territoires. \nUne soirée immersive\, à la croisée de la littérature\, de l’histoire\, de l’image et de la parole. \n\nInformations pratiques\nÀ Saint-ClaudeMercredi 15\, jeudi 23 et samedi 25 avril 2026⚠️ Places limitées – réservation conseillée \nPensez à réserver dès à présent auprès de Saute-Frontière
URL:https://www.saint-claude.fr/evenement/desorientons-nous-trois-rendez-vous-litteraires-et-artistiques-a-saint-claude/
ATTACH;FMTTYPE=image/jpeg:https://www.saint-claude.fr/wp-content/uploads/2026/04/AFFICHE_DESORIENTONS_NOUS-scaled.jpg
END:VEVENT
BEGIN:VEVENT
DTSTART;TZID=Europe/Paris:20260415T160000
DTEND;TZID=Europe/Paris:20260713T183000
DTSTAMP:20260421T024753
CREATED:20260325T130114Z
LAST-MODIFIED:20260325T130114Z
UID:43604-1776268800-1783967400@www.saint-claude.fr
SUMMARY:Moove and Dance
DESCRIPTION:Tu aimes le mouvement\, la danse\, les défis\, partager des projets avec d’autres ? \nParticipe aux ateliers animés par Laure-Elise de l’association Corps et mouvement dansé. \n+ On fait le show le 13 juillet en centre-ville ! \nUn projet pour s’exprimer\, gagner en confiance et une chance d’entrer dans l’univers de la danse avec plus de 12 ateliers d’une heure par semaine. \nRendez-vous :\n– De 16h à 17h à la salle Miroir/Bavoux Lançon\n– De 17h30 à 18h30 à l’Espace Mosaïque \nLes 15\, 22 et 29 avril\, 06\, 13\, 20 et 27 mai\, 03\, 10\, 17 et 27 juin\, 01 et 08 juillet. \nGRATUIT – Dès 11 ans\nSur inscription\nau 03 84 45 22 97 / 06 30 52 42 82 \nUn projet proposé par l’Espace Mosaïque avec le soutien de la CAF\, l’ANCT\, la Ville de Saint-Claude te l’association Corps et mouvement dansé
URL:https://www.saint-claude.fr/evenement/moove-and-dance/
ATTACH;FMTTYPE=image/png:https://www.saint-claude.fr/wp-content/uploads/2026/03/flyer-atelier-danse.png
END:VEVENT
END:VCALENDAR